BEGIN:VCALENDAR
VERSION:2.0
PRODID:-//ChamberMaster//Event Calendar 2.0//EN
METHOD:PUBLISH
X-PUBLISHED-TTL:P3D
REFRESH-INTERVAL:P3D
CALSCALE:GREGORIAN
BEGIN:VEVENT
DTSTART;VALUE=DATE:20050603
DTEND;VALUE=DATE:20050605
TRANSP:TRANSPARENT
X-MICROSOFT-CDO-ALLDAYEVENT:TRUE
SUMMARY:Shannon Street Blues Festival
DESCRIPTION:Features fantastic blues music by Blue Monday\, Magi\, Half Past Memphis\, Total Reaction\, Big Al & the Heavyweights\, Big Bill Morganfield and Guitar Shorty. Also\, 5K run\, BBQ cooking contest\, motorcycle Dice Run.
X-ALT-DESC;FMTTYPE=text/html:Features fantastic blues music by Blue Monday\, Magi\, Half Past Memphis\, Total Reaction\, Big Al & the Heavyweights\, Big Bill Morganfield and Guitar Shorty. Also\, 5K run\, BBQ cooking contest\, motorcycle Dice Run.
LOCATION:West Tennessee Farmer's Market 91 New Market Street Jackson\, TN
UID:e.2827.1056
SEQUENCE:3
DTSTAMP:20260421T182441Z
URL:https://member.jacksontn.com/events/details/shannon-street-blues-festival-06-03-2005-1056
END:VEVENT

END:VCALENDAR
