BEGIN:VCALENDAR
VERSION:2.0
PRODID:-//ChamberMaster//Event Calendar 2.0//EN
METHOD:PUBLISH
X-PUBLISHED-TTL:P3D
REFRESH-INTERVAL:P3D
CALSCALE:GREGORIAN
BEGIN:VEVENT
DTSTART:20060120T153000Z
DTEND:20060120T060000Z
X-MICROSOFT-CDO-ALLDAYEVENT:FALSE
SUMMARY:Shakespeare's Twelfth Night
DESCRIPTION:Upper School Production in Blankenship Theater. 9:30 a.m. and 7:30 p.m. Tickets $7 for adults\, $5 for seniors and students.
X-ALT-DESC;FMTTYPE=text/html:Upper School Production in Blankenship Theater. 9:30 a.m. and 7:30 p.m. Tickets $7 for adults\, $5 for seniors and students.
LOCATION:USJ Upper School 232 McClellan Road Jackson\, TN
UID:e.2827.1394
SEQUENCE:3
DTSTAMP:20260421T041724Z
URL:https://member.jacksontn.com/events/details/shakespeare-s-twelfth-night-01-20-2006-1394
END:VEVENT

END:VCALENDAR
