BEGIN:VCALENDAR
VERSION:2.0
PRODID:-//ChamberMaster//Event Calendar 2.0//EN
METHOD:PUBLISH
X-PUBLISHED-TTL:P3D
REFRESH-INTERVAL:P3D
CALSCALE:GREGORIAN
BEGIN:VEVENT
DTSTART:20051015T140000Z
DTEND:20051015T170000Z
X-MICROSOFT-CDO-ALLDAYEVENT:FALSE
SUMMARY:''Saturday Workshop for Grades 5-12''
DESCRIPTION:Classes of 4. Students choose their own project focus. Individualized instruction.
X-ALT-DESC;FMTTYPE=text/html:Classes of 4. Students choose their own project focus. Individualized instruction.
LOCATION:Union University Dept. of Art
UID:e.2827.1268
SEQUENCE:3
DTSTAMP:20260421T113603Z
URL:https://member.jacksontn.com/events/details/saturday-workshop-for-grades-5-12-10-15-2005-1268
END:VEVENT

END:VCALENDAR
