BEGIN:VCALENDAR
VERSION:2.0
PRODID:-//ChamberMaster//Event Calendar 2.0//EN
METHOD:PUBLISH
X-PUBLISHED-TTL:P3D
REFRESH-INTERVAL:P3D
CALSCALE:GREGORIAN
BEGIN:VEVENT
DTSTART:20050415T140000Z
DTEND:20050415T230000Z
X-MICROSOFT-CDO-ALLDAYEVENT:FALSE
SUMMARY:''Safe Return'' Sign-Up Fair
DESCRIPTION:Safe Return is an identification database program of the Alzheimer's Association that assists in the identification and safe\, timely return of individuals with Alzheimer's disease and related dementias. Fee is $40.00 - financial assistance available for families who cannot afford the fee.
X-ALT-DESC;FMTTYPE=text/html:Safe Return is an identification database program of the Alzheimer's Association that assists in the identification and safe\, timely return of individuals with Alzheimer's disease and related dementias. Fee is $40.00 - financial assistance available for families who cannot afford the fee.
LOCATION:Cheyenne Trace Assisted Living & Alzheimer's Community 420 Cheyenne Drive Jackson\, TN 38305
UID:e.2827.997
SEQUENCE:3
DTSTAMP:20260421T200117Z
URL:https://member.jacksontn.com/events/details/safe-return-sign-up-fair-04-15-2005-997
END:VEVENT

END:VCALENDAR
