BEGIN:VCALENDAR
VERSION:2.0
PRODID:-//ChamberMaster//Event Calendar 2.0//EN
METHOD:PUBLISH
X-PUBLISHED-TTL:P3D
REFRESH-INTERVAL:P3D
CALSCALE:GREGORIAN
BEGIN:VEVENT
DTSTART:20050705T140000Z
DTEND:20050709T210000Z
X-MICROSOFT-CDO-ALLDAYEVENT:FALSE
SUMMARY:RIFA Clearance Sale
DESCRIPTION:RIFA will hold a 4-day clearance sale on all summer clothing and shoes. Markdowns on additional items at the Thurs. sidewalk sale\, 10 a.m.-3 p.m.
X-ALT-DESC;FMTTYPE=text/html:RIFA will hold a 4-day clearance sale on all summer clothing and shoes. Markdowns on additional items at the Thurs. sidewalk sale\, 10 a.m.-3 p.m.
LOCATION:RIFA 219 N. Highland Jackson\, TN
UID:e.2827.1140
SEQUENCE:3
DTSTAMP:20260421T171144Z
URL:https://member.jacksontn.com/events/details/rifa-clearance-sale-07-05-2005-1140
END:VEVENT

END:VCALENDAR
