BEGIN:VCALENDAR
VERSION:2.0
PRODID:-//ChamberMaster//Event Calendar 2.0//EN
METHOD:PUBLISH
X-PUBLISHED-TTL:P3D
REFRESH-INTERVAL:P3D
CALSCALE:GREGORIAN
BEGIN:VEVENT
DTSTART:20050512T210000Z
DTEND:20050512T220000Z
X-MICROSOFT-CDO-ALLDAYEVENT:FALSE
SUMMARY:Ribbon Cuttings
DESCRIPTION:
X-ALT-DESC;FMTTYPE=text/html:
LOCATION:Jackson Pulmonary Care & Shadowcreek Healthcare\, Inc. 174 Murray Guard Drive\, Suites A & D Jackson\, TN 38305
UID:e.2827.988
SEQUENCE:3
DTSTAMP:20260421T200228Z
URL:https://member.jacksontn.com/events/details/ribbon-cuttings-05-12-2005-988
END:VEVENT

END:VCALENDAR
