BEGIN:VCALENDAR
VERSION:2.0
PRODID:-//ChamberMaster//Event Calendar 2.0//EN
METHOD:PUBLISH
X-PUBLISHED-TTL:P3D
REFRESH-INTERVAL:P3D
CALSCALE:GREGORIAN
BEGIN:VEVENT
DTSTART:20050510T150000Z
DTEND:20050510T160000Z
X-MICROSOFT-CDO-ALLDAYEVENT:FALSE
SUMMARY:Ribbon Cuttings
DESCRIPTION:
X-ALT-DESC;FMTTYPE=text/html:
LOCATION:Bella Melange\, Connie's Corner\, Curves Innsdale Cove Jackson\, TN 38305
UID:e.2827.1057
SEQUENCE:3
DTSTAMP:20260421T182250Z
URL:https://member.jacksontn.com/events/details/ribbon-cuttings-05-10-2005-1057
END:VEVENT

END:VCALENDAR
