BEGIN:VCALENDAR
VERSION:2.0
PRODID:-//ChamberMaster//Event Calendar 2.0//EN
METHOD:PUBLISH
X-PUBLISHED-TTL:P3D
REFRESH-INTERVAL:P3D
CALSCALE:GREGORIAN
BEGIN:VEVENT
DTSTART:20050519T210000Z
DTEND:20050519T230000Z
X-MICROSOFT-CDO-ALLDAYEVENT:FALSE
SUMMARY:Ribbon Cutting & Open House
DESCRIPTION:
X-ALT-DESC;FMTTYPE=text/html:
LOCATION:Crye-Leike Realtors and First Class Limos 3021 Highway 45 Bypass Jackson\, TN 38305
UID:e.2827.1077
SEQUENCE:3
DTSTAMP:20260421T182249Z
URL:https://member.jacksontn.com/events/details/ribbon-cutting-open-house-05-19-2005-1077
END:VEVENT

END:VCALENDAR
