BEGIN:VCALENDAR
VERSION:2.0
PRODID:-//ChamberMaster//Event Calendar 2.0//EN
METHOD:PUBLISH
X-PUBLISHED-TTL:P3D
REFRESH-INTERVAL:P3D
CALSCALE:GREGORIAN
BEGIN:VEVENT
DTSTART:20051028T150000Z
DTEND:20051028T160000Z
X-MICROSOFT-CDO-ALLDAYEVENT:FALSE
SUMMARY:Ribbon Cutting
DESCRIPTION:
X-ALT-DESC;FMTTYPE=text/html:
LOCATION:Bargain Basement Bemis Square Shopping Center-S. Highland Jackson\, TN 38301
UID:e.2827.1281
SEQUENCE:3
DTSTAMP:20260421T113625Z
URL:https://member.jacksontn.com/events/details/ribbon-cutting-10-28-2005-1281
END:VEVENT

END:VCALENDAR
