BEGIN:VCALENDAR
VERSION:2.0
PRODID:-//ChamberMaster//Event Calendar 2.0//EN
METHOD:PUBLISH
X-PUBLISHED-TTL:P3D
REFRESH-INTERVAL:P3D
CALSCALE:GREGORIAN
BEGIN:VEVENT
DTSTART:20051021T150000Z
DTEND:20051021T160000Z
X-MICROSOFT-CDO-ALLDAYEVENT:FALSE
SUMMARY:Ribbon Cutting
DESCRIPTION:
X-ALT-DESC;FMTTYPE=text/html:
LOCATION:Altrusa International-Yvonne Salsbury's State Farm Office 319 Vann Dr. Jackson\, TN 38305
UID:e.2827.1273
SEQUENCE:3
DTSTAMP:20260421T165904Z
URL:https://member.jacksontn.com/events/details/ribbon-cutting-10-21-2005-1273
END:VEVENT

END:VCALENDAR
