BEGIN:VCALENDAR
VERSION:2.0
PRODID:-//ChamberMaster//Event Calendar 2.0//EN
METHOD:PUBLISH
X-PUBLISHED-TTL:P3D
REFRESH-INTERVAL:P3D
CALSCALE:GREGORIAN
BEGIN:VEVENT
DTSTART:20051020T160000Z
DTEND:20051020T170000Z
X-MICROSOFT-CDO-ALLDAYEVENT:FALSE
SUMMARY:Ribbon Cutting
DESCRIPTION:
X-ALT-DESC;FMTTYPE=text/html:
LOCATION:Leaders Credit Union 1291 S. Highland Jackson\, TN 38305
UID:e.2827.1298
SEQUENCE:3
DTSTAMP:20260421T113627Z
URL:https://member.jacksontn.com/events/details/ribbon-cutting-10-20-2005-1298
END:VEVENT

END:VCALENDAR
