BEGIN:VCALENDAR
VERSION:2.0
PRODID:-//ChamberMaster//Event Calendar 2.0//EN
METHOD:PUBLISH
X-PUBLISHED-TTL:P3D
REFRESH-INTERVAL:P3D
CALSCALE:GREGORIAN
BEGIN:VEVENT
DTSTART:20051013T220000Z
DTEND:20051013T230000Z
X-MICROSOFT-CDO-ALLDAYEVENT:FALSE
SUMMARY:Ribbon Cutting
DESCRIPTION:
X-ALT-DESC;FMTTYPE=text/html:
LOCATION:West TN Oral & Facial Surgery Center 544 Roland Ave. Jackson\, TN 38301
UID:e.2827.1276
SEQUENCE:3
DTSTAMP:20260421T142805Z
URL:https://member.jacksontn.com/events/details/ribbon-cutting-10-13-2005-1276
END:VEVENT

END:VCALENDAR
