BEGIN:VCALENDAR
VERSION:2.0
PRODID:-//ChamberMaster//Event Calendar 2.0//EN
METHOD:PUBLISH
X-PUBLISHED-TTL:P3D
REFRESH-INTERVAL:P3D
CALSCALE:GREGORIAN
BEGIN:VEVENT
DTSTART:20050922T150000Z
DTEND:20050922T160000Z
X-MICROSOFT-CDO-ALLDAYEVENT:FALSE
SUMMARY:Ribbon Cutting
DESCRIPTION:
X-ALT-DESC;FMTTYPE=text/html:
LOCATION:Marsh Overhead Doors 2158 Hollywood Dr. Jackson\, TN 38305
UID:e.2827.1242
SEQUENCE:3
DTSTAMP:20260421T141237Z
URL:https://member.jacksontn.com/events/details/ribbon-cutting-09-22-2005-1242
END:VEVENT

END:VCALENDAR
