BEGIN:VCALENDAR
VERSION:2.0
PRODID:-//ChamberMaster//Event Calendar 2.0//EN
METHOD:PUBLISH
X-PUBLISHED-TTL:P3D
REFRESH-INTERVAL:P3D
CALSCALE:GREGORIAN
BEGIN:VEVENT
DTSTART:20050916T200000Z
DTEND:20050916T210000Z
X-MICROSOFT-CDO-ALLDAYEVENT:FALSE
SUMMARY:Ribbon Cutting
DESCRIPTION:
X-ALT-DESC;FMTTYPE=text/html:
LOCATION:Merle Norman 1081 Vann Drive\, Suite 103 Jackson\, TN 38305
UID:e.2827.1210
SEQUENCE:3
DTSTAMP:20260421T141257Z
URL:https://member.jacksontn.com/events/details/ribbon-cutting-09-16-2005-1210
END:VEVENT

END:VCALENDAR
