BEGIN:VCALENDAR
VERSION:2.0
PRODID:-//ChamberMaster//Event Calendar 2.0//EN
METHOD:PUBLISH
X-PUBLISHED-TTL:P3D
REFRESH-INTERVAL:P3D
CALSCALE:GREGORIAN
BEGIN:VEVENT
DTSTART:20050519T133000Z
DTEND:20050519T143000Z
X-MICROSOFT-CDO-ALLDAYEVENT:FALSE
SUMMARY:Ribbon Cutting
DESCRIPTION:
X-ALT-DESC;FMTTYPE=text/html:
LOCATION:Great Outdoor Store 2310 N. Highland Ave. Jackson\, TN 38305
UID:e.2827.1033
SEQUENCE:3
DTSTAMP:20260421T182209Z
URL:https://member.jacksontn.com/events/details/ribbon-cutting-05-19-2005-1033
END:VEVENT

END:VCALENDAR
