BEGIN:VCALENDAR
VERSION:2.0
PRODID:-//ChamberMaster//Event Calendar 2.0//EN
METHOD:PUBLISH
X-PUBLISHED-TTL:P3D
REFRESH-INTERVAL:P3D
CALSCALE:GREGORIAN
BEGIN:VEVENT
DTSTART:20050428T220000Z
DTEND:20050428T221500Z
X-MICROSOFT-CDO-ALLDAYEVENT:FALSE
SUMMARY:Ribbon Cutting
DESCRIPTION:
X-ALT-DESC;FMTTYPE=text/html:
LOCATION:Hart-Freeland-Roberts 113 N. Liberty Jackson\, TN 38301
UID:e.2827.985
SEQUENCE:3
DTSTAMP:20260421T200217Z
URL:https://member.jacksontn.com/events/details/ribbon-cutting-04-28-2005-985
END:VEVENT

END:VCALENDAR
