BEGIN:VCALENDAR
VERSION:2.0
PRODID:-//ChamberMaster//Event Calendar 2.0//EN
METHOD:PUBLISH
X-PUBLISHED-TTL:P3D
REFRESH-INTERVAL:P3D
CALSCALE:GREGORIAN
BEGIN:VEVENT
DTSTART:20050425T190000Z
DTEND:20050425T200000Z
X-MICROSOFT-CDO-ALLDAYEVENT:FALSE
SUMMARY:Ribbon Cutting
DESCRIPTION:
X-ALT-DESC;FMTTYPE=text/html:
LOCATION:Ivey Hall 1928 Riverside Drive Jackson\, TN 38301
UID:e.2827.968
SEQUENCE:3
DTSTAMP:20260421T200053Z
URL:https://member.jacksontn.com/events/details/ribbon-cutting-04-25-2005-968
END:VEVENT

END:VCALENDAR
