BEGIN:VCALENDAR
VERSION:2.0
PRODID:-//ChamberMaster//Event Calendar 2.0//EN
METHOD:PUBLISH
X-PUBLISHED-TTL:P3D
REFRESH-INTERVAL:P3D
CALSCALE:GREGORIAN
BEGIN:VEVENT
DTSTART:20050408T143000Z
DTEND:20050408T153000Z
X-MICROSOFT-CDO-ALLDAYEVENT:FALSE
SUMMARY:Ribbon Cutting
DESCRIPTION:
X-ALT-DESC;FMTTYPE=text/html:
LOCATION:Strawberry Festival Goodwill Tour Chamber - 197 Auditorium Drive Jackson\, TN 38301
UID:e.2827.964
SEQUENCE:3
DTSTAMP:20260421T200053Z
URL:https://member.jacksontn.com/events/details/ribbon-cutting-04-08-2005-964
END:VEVENT

END:VCALENDAR
