BEGIN:VCALENDAR
VERSION:2.0
PRODID:-//ChamberMaster//Event Calendar 2.0//EN
METHOD:PUBLISH
X-PUBLISHED-TTL:P3D
REFRESH-INTERVAL:P3D
CALSCALE:GREGORIAN
BEGIN:VEVENT
DTSTART:20050401T173000Z
DTEND:20050401T180000Z
X-MICROSOFT-CDO-ALLDAYEVENT:FALSE
SUMMARY:Ribbon Cutting
DESCRIPTION:
X-ALT-DESC;FMTTYPE=text/html:
LOCATION:Habitat for Humanity Re-Store 519 E. Chester Jackson\, TN 38301
UID:e.2827.961
SEQUENCE:3
DTSTAMP:20260421T200052Z
URL:https://member.jacksontn.com/events/details/ribbon-cutting-04-01-2005-961
END:VEVENT

END:VCALENDAR
