BEGIN:VCALENDAR
VERSION:2.0
PRODID:-//ChamberMaster//Event Calendar 2.0//EN
METHOD:PUBLISH
X-PUBLISHED-TTL:P3D
REFRESH-INTERVAL:P3D
CALSCALE:GREGORIAN
BEGIN:VEVENT
DTSTART:20190523T123000Z
DTEND:20190523T140000Z
X-MICROSOFT-CDO-ALLDAYEVENT:FALSE
SUMMARY:Quarterly Membership Breakfast Education Recognition
DESCRIPTION:Enjoy breakfast & hear from Randy Boyd\, University of Tennessee Interim President.  Golden Apple Awards will be presented and Partners in Education will be recognized.  Advanced registration is required.
X-ALT-DESC;FMTTYPE=text/html:<span style="font-size:16px\;"><span style="font-family:arial\;">Enjoy breakfast &amp\; hear from Randy Boyd\, University of Tennessee Interim President.&nbsp\; Golden Apple Awards will be presented and Partners in Education will be recognized.&nbsp\; Advanced registration is required.</span></span>\n\n<h4 style="box-sizing: border-box\; font-family: &quot\;Gotham SSm A&quot\;\, &quot\;Gotham SSm B&quot\;\, -apple-system\, BlinkMacSystemFont\, &quot\;Segoe UI&quot\;\, Roboto\, Oxygen\, Ubuntu\, Cantarell\, &quot\;Fira Sans&quot\;\, &quot\;Droid Sans&quot\;\, &quot\;Helvetica Neue&quot\;\, Arial\, sans-serif\; font-weight: 700\; line-height: 1.1\; color: rgb(68\, 68\, 68)\; margin-top: 10px\; margin-bottom: 10px\; font-size: 16px\;">&nbsp\;</h4>\n
LOCATION:Jackson Country Club 31 Jackson Country Club Ln. Jackson\, TN 38305
UID:e.2827.6766
SEQUENCE:3
DTSTAMP:20260421T155155Z
URL:https://member.jacksontn.com/events/details/quarterly-membership-breakfast-education-recognition-6766
END:VEVENT

END:VCALENDAR
