BEGIN:VCALENDAR
VERSION:2.0
PRODID:-//ChamberMaster//Event Calendar 2.0//EN
METHOD:PUBLISH
X-PUBLISHED-TTL:P3D
REFRESH-INTERVAL:P3D
CALSCALE:GREGORIAN
BEGIN:VEVENT
DTSTART:20180504T123000Z
DTEND:20180504T140000Z
X-MICROSOFT-CDO-ALLDAYEVENT:FALSE
SUMMARY:Quarterly Membership Breakfast Education Recognition
DESCRIPTION:Enjoy breakfast and an opportunity to network with other business and community leaders. Hear from Krissy DeAlejandro with TNAchieves. Golden Apple Awards will be presented and Partners in Education will be recognized. Advanced registration is required.
X-ALT-DESC;FMTTYPE=text/html:Enjoy breakfast and an opportunity to network with other business and community leaders. Hear from Krissy DeAlejandro with TNAchieves.&nbsp\;Golden Apple Awards will be presented and Partners in Education will be recognized. Advanced registration is required.
LOCATION:Jackson Country Club 31 Jackson Country Club Ln. Jackson\, TN 38305
UID:e.2827.6684
SEQUENCE:3
DTSTAMP:20260423T152014Z
URL:https://member.jacksontn.com/events/details/quarterly-membership-breakfast-education-recognition-6684
END:VEVENT

END:VCALENDAR
