BEGIN:VCALENDAR
VERSION:2.0
PRODID:-//ChamberMaster//Event Calendar 2.0//EN
METHOD:PUBLISH
X-PUBLISHED-TTL:P3D
REFRESH-INTERVAL:P3D
CALSCALE:GREGORIAN
BEGIN:VEVENT
DTSTART:20050919T170000Z
DTEND:20050919T050000Z
X-MICROSOFT-CDO-ALLDAYEVENT:FALSE
SUMMARY:Puttin' for Pets
DESCRIPTION:Four person scramble\, shotgun start at noon. Cost is $400 per team or $100 per person.
X-ALT-DESC;FMTTYPE=text/html:Four person scramble\, shotgun start at noon. Cost is $400 per team or $100 per person.
LOCATION:Hidden Valley Golf & Athletic Club
UID:e.2827.1220
SEQUENCE:3
DTSTAMP:20260421T172703Z
URL:https://member.jacksontn.com/events/details/puttin-for-pets-09-19-2005-1220
END:VEVENT

END:VCALENDAR
