BEGIN:VCALENDAR
VERSION:2.0
PRODID:-//ChamberMaster//Event Calendar 2.0//EN
METHOD:PUBLISH
X-PUBLISHED-TTL:P3D
REFRESH-INTERVAL:P3D
CALSCALE:GREGORIAN
BEGIN:VEVENT
DTSTART:20050414T123000Z
DTEND:20050414T140000Z
X-MICROSOFT-CDO-ALLDAYEVENT:FALSE
SUMMARY:''Preventing and Investigating Workplace Harassment''
DESCRIPTION:Robert M. (Bob) Williams\, Jr. will be the presenter. The program is approved for 1 hour of HRCI credit. Both the program and the breakfast are complimentary.
X-ALT-DESC;FMTTYPE=text/html:Robert M. (Bob) Williams\, Jr. will be the presenter. The program is approved for 1 hour of HRCI credit. Both the program and the breakfast are complimentary.
LOCATION:The Jackson Area Chamber of Commerce 197 Auditorium Street Jackson\, TN 38302
UID:e.2827.913
SEQUENCE:3
DTSTAMP:20260421T200116Z
URL:https://member.jacksontn.com/events/details/preventing-and-investigating-workplace-harassment-04-14-2005-913
END:VEVENT

END:VCALENDAR
