BEGIN:VCALENDAR
VERSION:2.0
PRODID:-//ChamberMaster//Event Calendar 2.0//EN
METHOD:PUBLISH
X-PUBLISHED-TTL:P3D
REFRESH-INTERVAL:P3D
CALSCALE:GREGORIAN
BEGIN:VEVENT
DTSTART:20051017T183000Z
DTEND:20051017T203000Z
X-MICROSOFT-CDO-ALLDAYEVENT:FALSE
SUMMARY:Preparing for the Unexpected - Crisis Media Relations
DESCRIPTION:Mark your calendar. Details coming soon.
X-ALT-DESC;FMTTYPE=text/html:Mark your calendar. Details coming soon.
LOCATION:Jackson Area Chamber of Commerce 197 Auditorium Street Jackson\, TN
UID:e.2827.1148
SEQUENCE:3
DTSTAMP:20260421T155654Z
URL:https://member.jacksontn.com/events/details/preparing-for-the-unexpected-crisis-media-relations-10-17-2005-1148
END:VEVENT

END:VCALENDAR
