BEGIN:VCALENDAR
VERSION:2.0
PRODID:-//ChamberMaster//Event Calendar 2.0//EN
METHOD:PUBLISH
X-PUBLISHED-TTL:P3D
REFRESH-INTERVAL:P3D
CALSCALE:GREGORIAN
BEGIN:VEVENT
DTSTART:20050417T003000Z
DTEND:20050416T050000Z
X-MICROSOFT-CDO-ALLDAYEVENT:FALSE
SUMMARY:Porter-Cable Pops featuring Ricky Skaggs
DESCRIPTION:Admission $15-$55. Eight-time Grammy winner Ricky Skaggsand Kentucky Thunder perform with the symphony.
X-ALT-DESC;FMTTYPE=text/html:Admission $15-$55. Eight-time Grammy winner Ricky Skaggsand Kentucky Thunder perform with the symphony.
LOCATION:The Carl Perkins Civic Center 400 S. Highland Jackson\, TN 38302
UID:e.2827.946
SEQUENCE:3
DTSTAMP:20260422T003531Z
URL:https://member.jacksontn.com/events/details/porter-cable-pops-featuring-ricky-skaggs-04-16-2005-946
END:VEVENT

END:VCALENDAR
