BEGIN:VCALENDAR
VERSION:2.0
PRODID:-//ChamberMaster//Event Calendar 2.0//EN
METHOD:PUBLISH
X-PUBLISHED-TTL:P3D
REFRESH-INTERVAL:P3D
CALSCALE:GREGORIAN
BEGIN:VEVENT
DTSTART:20050417T003000Z
DTEND:20050417T040000Z
X-MICROSOFT-CDO-ALLDAYEVENT:FALSE
SUMMARY:Porter Cable Pops Concert - Ricky Skaggs
DESCRIPTION:Eight-time Grammy winner Ricky Skaggs is a legend. He and his band energize traditional music with red hot playing\, blazing fiddles and soulful singing. General admission seating in the balcony is priced at $15 for students and seniors and $25 for adults. Table seating is available at $30-$55 per person. Balcony tickets are available at Davis-Kidd Booksellers or online.
X-ALT-DESC;FMTTYPE=text/html:Eight-time Grammy winner Ricky Skaggs is a legend. He and his band energize traditional music with red hot playing\, blazing fiddles and soulful singing. General admission seating in the balcony is priced at $15 for students and seniors and $25 for adults. Table seating is available at $30-$55 per person. Balcony tickets are available at Davis-Kidd Booksellers or online.
LOCATION:Carl Perkins Civic Center 400 S. Highland Ave Jackson\, TN
UID:e.2827.917
SEQUENCE:3
DTSTAMP:20260421T200337Z
URL:https://member.jacksontn.com/events/details/porter-cable-pops-concert-ricky-skaggs-04-16-2005-917
END:VEVENT

END:VCALENDAR
