BEGIN:VCALENDAR
VERSION:2.0
PRODID:-//ChamberMaster//Event Calendar 2.0//EN
METHOD:PUBLISH
X-PUBLISHED-TTL:P3D
REFRESH-INTERVAL:P3D
CALSCALE:GREGORIAN
BEGIN:VEVENT
DTSTART:20050604T150000Z
DTEND:20050604T220000Z
X-MICROSOFT-CDO-ALLDAYEVENT:FALSE
SUMMARY:Pond Tour
DESCRIPTION:This is a wonderful opportunity to see ponds of various sizes and types\, beautiful fish\, in addition to waterscape\, landscape and garden accents.  Meet the owners and discuss your pond and fish questions.  \nThe tickets are $5.00 per person\, children under 10 free.  All proceeds go to the Carl Perkins Child Abuse Center.  Tickets will be available at Davis-Kidd\, Randolph's Nursery\, Water Wonders\, Green-Way Nursery\, Morris Nursery\, and Four Seasons. For additional information\, contact Lynda Climer\, 731-423-2420 or Carolyn Forde\, 731-423-9020.
X-ALT-DESC;FMTTYPE=text/html:This is a wonderful opportunity to see ponds of various sizes and types\, beautiful fish\, in addition to waterscape\, landscape and garden accents.  Meet the owners and discuss your pond and fish questions.  \nThe tickets are $5.00 per person\, children under 10 free.  All proceeds go to the Carl Perkins Child Abuse Center.  Tickets will be available at Davis-Kidd\, Randolph's Nursery\, Water Wonders\, Green-Way Nursery\, Morris Nursery\, and Four Seasons. For additional information\, contact Lynda Climer\, 731-423-2420 or Carolyn Forde\, 731-423-9020.\n
LOCATION:
UID:e.2827.1012
SEQUENCE:3
DTSTAMP:20260421T170731Z
URL:https://member.jacksontn.com/events/details/pond-tour-06-04-2005-1012
END:VEVENT

END:VCALENDAR
