BEGIN:VCALENDAR
VERSION:2.0
PRODID:-//ChamberMaster//Event Calendar 2.0//EN
METHOD:PUBLISH
X-PUBLISHED-TTL:P3D
REFRESH-INTERVAL:P3D
CALSCALE:GREGORIAN
BEGIN:VEVENT
DTSTART:20050426T130000Z
DTEND:20050426T170000Z
X-MICROSOFT-CDO-ALLDAYEVENT:FALSE
SUMMARY:Personal Awareness and Communication for Managers
DESCRIPTION:Poor communication between management and employees is one of the most common workplace problems.  Effective leaders understand their own style of communicating\, and they are able to "flex" their style so they can relate to and communicate better with others.  \n\nParticipants will complete the INSIGHT Inventory assessment and determine their communication style in four areas:  influencing others\, responding to others\, making decisions\, and dealing with details.  Participants will then develop strategies for communicating with people who have opposite styles. \n\nThe owrkshop will be facilitated by Kelly Mollica\, Ph.D.  Dr. Mollica is a leadershop development specialist with The Centre Group in Memphis.  The Centre Group specializes in helping businesses improve their bottom line through human asset development.
X-ALT-DESC;FMTTYPE=text/html:Poor communication between management and employees is one of the most common workplace problems.  Effective leaders understand their own style of communicating\, and they are able to "flex" their style so they can relate to and communicate better with others.  \n\nParticipants will complete the INSIGHT Inventory assessment and determine their communication style in four areas:  influencing others\, responding to others\, making decisions\, and dealing with details.  Participants will then develop strategies for communicating with people who have opposite styles. \n\nThe owrkshop will be facilitated by Kelly Mollica\, Ph.D.  Dr. Mollica is a leadershop development specialist with The Centre Group in Memphis.  The Centre Group specializes in helping businesses improve their bottom line through human asset development.
LOCATION:Chamber of Commerce
UID:e.2827.1554
SEQUENCE:3
DTSTAMP:20260421T213723Z
URL:https://member.jacksontn.com/events/details/personal-awareness-and-communication-for-managers-04-26-2005-1554
END:VEVENT

END:VCALENDAR
