BEGIN:VCALENDAR
VERSION:2.0
PRODID:-//ChamberMaster//Event Calendar 2.0//EN
METHOD:PUBLISH
X-PUBLISHED-TTL:P3D
REFRESH-INTERVAL:P3D
CALSCALE:GREGORIAN
BEGIN:VEVENT
DTSTART:20050322T000000Z
DTEND:20050321T060000Z
X-MICROSOFT-CDO-ALLDAYEVENT:FALSE
SUMMARY:Parkinson's Support Group
DESCRIPTION:Free admission. Open to anyone with Parkinson's disease\, their families and interested community members.
X-ALT-DESC;FMTTYPE=text/html:Free admission. Open to anyone with Parkinson's disease\, their families and interested community members.
LOCATION:4th Floor Conf. Room\, Jackson-Madison Co. General Hospital
UID:e.2827.892
SEQUENCE:3
DTSTAMP:20260421T231106Z
URL:https://member.jacksontn.com/events/details/parkinson-s-support-group-03-21-2005-892
END:VEVENT

END:VCALENDAR
