BEGIN:VCALENDAR
VERSION:2.0
PRODID:-//ChamberMaster//Event Calendar 2.0//EN
METHOD:PUBLISH
X-PUBLISHED-TTL:P3D
REFRESH-INTERVAL:P3D
CALSCALE:GREGORIAN
BEGIN:VEVENT
DTSTART:20050521T210000Z
DTEND:20050522T000000Z
X-MICROSOFT-CDO-ALLDAYEVENT:FALSE
SUMMARY:Painting for Paws
DESCRIPTION:Painting for Paws with Yappy Hour will be held at Marguerite's (New Southern Hotel). Proceeds benefit the Jackson-Madison County Humane Society. $10 donation at the door\, plus drink tickets\, appetizers and drinks\, pet photos\, costume beauty review\, best owner/pet look alike and more. Bring your pet! Must be at least 21 years old to attend.
X-ALT-DESC;FMTTYPE=text/html:Painting for Paws with Yappy Hour will be held at Marguerite's (New Southern Hotel). Proceeds benefit the Jackson-Madison County Humane Society. $10 donation at the door\, plus drink tickets\, appetizers and drinks\, pet photos\, costume beauty review\, best owner/pet look alike and more. Bring your pet! Must be at least 21 years old to attend.
LOCATION:Marguerite's 124 E. Baltimore Jackson\, TN
UID:e.2827.1055
SEQUENCE:3
DTSTAMP:20260421T182159Z
URL:https://member.jacksontn.com/events/details/painting-for-paws-05-21-2005-1055
END:VEVENT

END:VCALENDAR
