BEGIN:VCALENDAR
VERSION:2.0
PRODID:-//ChamberMaster//Event Calendar 2.0//EN
METHOD:PUBLISH
X-PUBLISHED-TTL:P3D
REFRESH-INTERVAL:P3D
CALSCALE:GREGORIAN
BEGIN:VEVENT
DTSTART:20050322T000000Z
DTEND:20050322T020000Z
X-MICROSOFT-CDO-ALLDAYEVENT:FALSE
SUMMARY:Organize & More Free Seminar
DESCRIPTION:Free seminar "Don't Think Spring Clean! Think Clutter-Free Organized Spaces." Professional organizer Lea Schneider will put a stop to the top ten mistakes of the disorganized and motivate listeners with a plan for getting their space organized.
X-ALT-DESC;FMTTYPE=text/html:Free seminar "Don't Think Spring Clean! Think Clutter-Free Organized Spaces." Professional organizer Lea Schneider will put a stop to the top ten mistakes of the disorganized and motivate listeners with a plan for getting their space organized.
LOCATION:David Kidd Booksellers & Cafe
UID:e.2827.897
SEQUENCE:3
DTSTAMP:20260421T213724Z
URL:https://member.jacksontn.com/events/details/organize-more-free-seminar-03-21-2005-897
END:VEVENT

END:VCALENDAR
