BEGIN:VCALENDAR
VERSION:2.0
PRODID:-//ChamberMaster//Event Calendar 2.0//EN
METHOD:PUBLISH
X-PUBLISHED-TTL:P3D
REFRESH-INTERVAL:P3D
CALSCALE:GREGORIAN
BEGIN:VEVENT
DTSTART:20050827T130000Z
DTEND:20050828T200000Z
X-MICROSOFT-CDO-ALLDAYEVENT:FALSE
SUMMARY:Operation Remembrance
DESCRIPTION:Septermber 2 marks the 60th anniversary of VJ Day and the ending of World War II. In honor of this occasion\, a Living History Camp will be held to honor World War II veterans and to bring awareness of their sacrifices to the country. Event features WWII vehicles\, field hospital\, marine/army display\, flag ceremony (all military branches) Saturday\, 6 p.m.\, weapons demonstration\, canteen dance.
X-ALT-DESC;FMTTYPE=text/html:Septermber 2 marks the 60th anniversary of VJ Day and the ending of World War II. In honor of this occasion\, a Living History Camp will be held to honor World War II veterans and to bring awareness of their sacrifices to the country. Event features WWII vehicles\, field hospital\, marine/army display\, flag ceremony (all military branches) Saturday\, 6 p.m.\, weapons demonstration\, canteen dance.
LOCATION:Casey Jones Village Interstate 40\, exit 80A at Highway 45 Bypass Jackson\, TN
UID:e.2827.1163
SEQUENCE:3
DTSTAMP:20260421T153819Z
URL:https://member.jacksontn.com/events/details/operation-remembrance-08-27-2005-1163
END:VEVENT

END:VCALENDAR
