BEGIN:VCALENDAR
VERSION:2.0
PRODID:-//ChamberMaster//Event Calendar 2.0//EN
METHOD:PUBLISH
X-PUBLISHED-TTL:P3D
REFRESH-INTERVAL:P3D
CALSCALE:GREGORIAN
BEGIN:VEVENT
DTSTART:20051006T170000Z
DTEND:20051006T050000Z
X-MICROSOFT-CDO-ALLDAYEVENT:FALSE
SUMMARY:One Community\, One Book\, Clyde Edgerton
DESCRIPTION:Free admission. Author Clyde Edgerton reads from "Walking Across Egypt"
X-ALT-DESC;FMTTYPE=text/html:Free admission. Author Clyde Edgerton reads from "Walking Across Egypt"
LOCATION:Jackson Madison County Library 433 E. Lafayette Jackson\, TN 38301
UID:e.2827.1249
SEQUENCE:3
DTSTAMP:20260422T010058Z
URL:https://member.jacksontn.com/events/details/one-community-one-book-clyde-edgerton-10-06-2005-1249
END:VEVENT

END:VCALENDAR
