BEGIN:VCALENDAR
VERSION:2.0
PRODID:-//ChamberMaster//Event Calendar 2.0//EN
METHOD:PUBLISH
X-PUBLISHED-TTL:P3D
REFRESH-INTERVAL:P3D
CALSCALE:GREGORIAN
BEGIN:VEVENT
DTSTART:20051006T233000Z
DTEND:20051028T033000Z
X-MICROSOFT-CDO-ALLDAYEVENT:FALSE
SUMMARY:Old Time Music Jams
DESCRIPTION:Free admission. Old time string\, bluegrass and gospel music.
X-ALT-DESC;FMTTYPE=text/html:Free admission. Old time string\, bluegrass and gospel music.
LOCATION:Old Country Store - Casey Jones Village
UID:e.2827.1251
SEQUENCE:3
DTSTAMP:20260421T143042Z
URL:https://member.jacksontn.com/events/details/old-time-music-jams-10-06-2005-1251
END:VEVENT

END:VCALENDAR
