BEGIN:VCALENDAR
VERSION:2.0
PRODID:-//ChamberMaster//Event Calendar 2.0//EN
METHOD:PUBLISH
X-PUBLISHED-TTL:P3D
REFRESH-INTERVAL:P3D
CALSCALE:GREGORIAN
BEGIN:VEVENT
DTSTART:20050514T113000Z
DTEND:20050515T020000Z
X-MICROSOFT-CDO-ALLDAYEVENT:FALSE
SUMMARY:Old Country Store 40th Anniversary Open House
DESCRIPTION:Celebrating 40 years in business on the exact weekend 40 years ago of the Old Country Store's Grand Opening in 1965. Special festivities all day.
X-ALT-DESC;FMTTYPE=text/html:Celebrating 40 years in business on the exact weekend 40 years ago of the Old Country Store's Grand Opening in 1965. Special festivities all day.
LOCATION:Brooks Shaw's Old Country Store 56 Casey Jones Lane Jackson\, TN
UID:e.2827.919
SEQUENCE:3
DTSTAMP:20260421T182415Z
URL:https://member.jacksontn.com/events/details/old-country-store-40th-anniversary-open-house-05-14-2005-919
END:VEVENT

END:VCALENDAR
