BEGIN:VCALENDAR
VERSION:2.0
PRODID:-//ChamberMaster//Event Calendar 2.0//EN
METHOD:PUBLISH
X-PUBLISHED-TTL:P3D
REFRESH-INTERVAL:P3D
CALSCALE:GREGORIAN
BEGIN:VEVENT
DTSTART:20171026T220000Z
DTEND:20171027T000000Z
X-MICROSOFT-CDO-ALLDAYEVENT:FALSE
SUMMARY:October Business After Hours
DESCRIPTION:This is one of the chamber's largest free events!  Sponsored by Ferguson Enterprises\, Inc.\n\n	 Make contacts\n	 Network\n	 Enjoy hors d'oeuvres \n	 Free to attend \n	 No advance registration
X-ALT-DESC;FMTTYPE=text/html:This is one of the chamber&#39\;s largest free events! &nbsp\;Sponsored by Ferguson Enterprises\, Inc.\n<ul>\n	<li>&nbsp\;Make contacts</li>\n	<li>&nbsp\;Network</li>\n	<li>&nbsp\;Enjoy hors d&#39\;oeuvres&nbsp\;</li>\n	<li>&nbsp\;Free to attend&nbsp\;</li>\n	<li>&nbsp\;No advance registration&nbsp\;</li>\n</ul>\n
LOCATION:Ferguson Enterprises\, Inc. 1020 Hwy 45 Bypass Jackson\, TN
UID:e.2827.4439
SEQUENCE:3
DTSTAMP:20260423T235754Z
URL:https://member.jacksontn.com/events/details/october-business-after-hours-4439
END:VEVENT

END:VCALENDAR
