BEGIN:VCALENDAR
VERSION:2.0
PRODID:-//ChamberMaster//Event Calendar 2.0//EN
METHOD:PUBLISH
X-PUBLISHED-TTL:P3D
REFRESH-INTERVAL:P3D
CALSCALE:GREGORIAN
BEGIN:VEVENT
DTSTART:20050908T123000Z
DTEND:20050908T140000Z
X-MICROSOFT-CDO-ALLDAYEVENT:FALSE
SUMMARY:Non-Profit Organization Roundtable
DESCRIPTION:Meeting to discuss common challenges and solutions\, tips on running the organization like a business\, networking
X-ALT-DESC;FMTTYPE=text/html:Meeting to discuss common challenges and solutions\, tips on running the organization like a business\, networking
LOCATION:The Chamber 197 Auditorium Street Jackson\, TN
UID:e.2827.1102
SEQUENCE:3
DTSTAMP:20260421T215252Z
URL:https://member.jacksontn.com/events/details/non-profit-organization-roundtable-09-08-2005-1102
END:VEVENT

END:VCALENDAR
