BEGIN:VCALENDAR
VERSION:2.0
PRODID:-//ChamberMaster//Event Calendar 2.0//EN
METHOD:PUBLISH
X-PUBLISHED-TTL:P3D
REFRESH-INTERVAL:P3D
CALSCALE:GREGORIAN
BEGIN:VEVENT
DTSTART:20031210T060000Z
DTEND:20031210T060000Z
X-MICROSOFT-CDO-ALLDAYEVENT:FALSE
SUMMARY:New Member Orientation - December
DESCRIPTION:New Member Orientation - December
X-ALT-DESC;FMTTYPE=text/html:New Member Orientation - December
LOCATION:
UID:e.2827.1982
SEQUENCE:3
DTSTAMP:20260423T063014Z
URL:https://member.jacksontn.com/events/details/new-member-orientation-december-12-10-2003-1982
END:VEVENT

END:VCALENDAR
