BEGIN:VCALENDAR
VERSION:2.0
PRODID:-//ChamberMaster//Event Calendar 2.0//EN
METHOD:PUBLISH
X-PUBLISHED-TTL:P3D
REFRESH-INTERVAL:P3D
CALSCALE:GREGORIAN
BEGIN:VEVENT
DTSTART:20030422T050000Z
DTEND:20030422T050000Z
X-MICROSOFT-CDO-ALLDAYEVENT:FALSE
SUMMARY:New Member Orientation - April
DESCRIPTION:New Member Orientation - April
X-ALT-DESC;FMTTYPE=text/html:New Member Orientation - April
LOCATION:
UID:e.2827.1970
SEQUENCE:3
DTSTAMP:20260423T155401Z
URL:https://member.jacksontn.com/events/details/new-member-orientation-april-04-22-2003-1970
END:VEVENT

END:VCALENDAR
