BEGIN:VCALENDAR
VERSION:2.0
PRODID:-//ChamberMaster//Event Calendar 2.0//EN
METHOD:PUBLISH
X-PUBLISHED-TTL:P3D
REFRESH-INTERVAL:P3D
CALSCALE:GREGORIAN
BEGIN:VEVENT
DTSTART:20050511T123000Z
DTEND:20050511T140000Z
X-MICROSOFT-CDO-ALLDAYEVENT:FALSE
SUMMARY:New Member Orientation 2005 - May
DESCRIPTION:How can the Chamber help your business?  \nFind out at our quarterly New Member Orientation!  Join us as we discuss the Chamber's role in the community\, introduce our staff and \nlearn about the many programs and services of the Chamber.  New members and existing members needing a "refresher course" are invited to attend.The event is free\, but advance registration is required.
X-ALT-DESC;FMTTYPE=text/html:<P align=center><FONT face=Tahoma size=4><STRONG><EM>How can the Chamber help your business?&nbsp\; <BR></EM></STRONG></FONT><FONT face=Tahoma size=4><STRONG><EM>Find out at our quarterly New Member Orientation!&nbsp\;&nbsp\;</EM></STRONG></FONT></P><P align=center><FONT face=Tahoma size=4>Join us as we discuss the Chamber's role in the community\, introduce our staff and <BR></FONT><FONT face=Tahoma size=4>learn about the many programs and services of the Chamber.&nbsp\; New members and existing members needing a "refresher course" are invited to attend.</FONT></P><P align=center><FONT face=Tahoma size=2><EM>The event is free\, but advance registration is required.</EM></FONT></P>
LOCATION:Jackson Area Chamber of Commerce 197 Auditorium St. Jackson\, TN 38301
UID:e.2827.1847
SEQUENCE:3
DTSTAMP:20260421T182414Z
URL:https://member.jacksontn.com/events/details/new-member-orientation-2005-may-05-11-2005-1847
END:VEVENT

END:VCALENDAR
