BEGIN:VCALENDAR
VERSION:2.0
PRODID:-//ChamberMaster//Event Calendar 2.0//EN
METHOD:PUBLISH
X-PUBLISHED-TTL:P3D
REFRESH-INTERVAL:P3D
CALSCALE:GREGORIAN
BEGIN:VEVENT
DTSTART:20041109T130000Z
DTEND:20041109T140000Z
X-MICROSOFT-CDO-ALLDAYEVENT:FALSE
SUMMARY:New Member Orientation 2004 - November
DESCRIPTION:
X-ALT-DESC;FMTTYPE=text/html:
LOCATION:Jackson Area Chamber of Commerce 197 Auditorium St. Jackson\, TN 38301
UID:e.2827.1845
SEQUENCE:3
DTSTAMP:20260422T090128Z
URL:https://member.jacksontn.com/events/details/new-member-orientation-2004-november-11-09-2004-1845
END:VEVENT

END:VCALENDAR
