BEGIN:VCALENDAR
VERSION:2.0
PRODID:-//ChamberMaster//Event Calendar 2.0//EN
METHOD:PUBLISH
X-PUBLISHED-TTL:P3D
REFRESH-INTERVAL:P3D
CALSCALE:GREGORIAN
BEGIN:VEVENT
DTSTART;VALUE=DATE:20050410
DTEND;VALUE=DATE:20050417
TRANSP:TRANSPARENT
X-MICROSOFT-CDO-ALLDAYEVENT:TRUE
SUMMARY:National Library Week
DESCRIPTION:All overdue fines will be forgiven on materials returned during this week.
X-ALT-DESC;FMTTYPE=text/html:All overdue fines will be forgiven on materials returned during this week.
LOCATION:Jackson Madison County Library 433 E. Lafayette Jackson\, TN 38301
UID:e.2827.922
SEQUENCE:3
DTSTAMP:20260421T195953Z
URL:https://member.jacksontn.com/events/details/national-library-week-04-10-2005-922
END:VEVENT

END:VCALENDAR
