BEGIN:VCALENDAR
VERSION:2.0
PRODID:-//ChamberMaster//Event Calendar 2.0//EN
METHOD:PUBLISH
X-PUBLISHED-TTL:P3D
REFRESH-INTERVAL:P3D
CALSCALE:GREGORIAN
BEGIN:VEVENT
DTSTART:20050313T013000Z
DTEND:20050312T060000Z
X-MICROSOFT-CDO-ALLDAYEVENT:FALSE
SUMMARY:''Mozart and Mahler''
DESCRIPTION:The Jackson Symphony presents Mozart's delightful divertimento in D major and Mahler's magnificent symphony No. 5. Admission $10 students and seniors\, $18 adults.
X-ALT-DESC;FMTTYPE=text/html:The Jackson Symphony presents Mozart's delightful divertimento in D major and Mahler's magnificent symphony No. 5. Admission $10 students and seniors\, $18 adults.
LOCATION:The Carl Perkins Civic Center 400 S. Highland Jackson\, TN 38301
UID:e.2827.889
SEQUENCE:3
DTSTAMP:20260421T213729Z
URL:https://member.jacksontn.com/events/details/mozart-and-mahler-03-12-2005-889
END:VEVENT

END:VCALENDAR
