BEGIN:VCALENDAR
VERSION:2.0
PRODID:-//ChamberMaster//Event Calendar 2.0//EN
METHOD:PUBLISH
X-PUBLISHED-TTL:P3D
REFRESH-INTERVAL:P3D
CALSCALE:GREGORIAN
BEGIN:VEVENT
DTSTART:20050616T000000Z
DTEND:20050619T030000Z
X-MICROSOFT-CDO-ALLDAYEVENT:FALSE
SUMMARY:Miss Tennessee Scholarship Pageant
DESCRIPTION:
X-ALT-DESC;FMTTYPE=text/html:
LOCATION:Carl Perkins Civic Center 400 S. Highland Ave. Jackson\, TN
UID:e.2827.1011
SEQUENCE:3
DTSTAMP:20260421T203028Z
URL:https://member.jacksontn.com/events/details/miss-tennessee-scholarship-pageant-06-15-2005-1011
END:VEVENT

END:VCALENDAR
