BEGIN:VCALENDAR
VERSION:2.0
PRODID:-//ChamberMaster//Event Calendar 2.0//EN
METHOD:PUBLISH
X-PUBLISHED-TTL:P3D
REFRESH-INTERVAL:P3D
CALSCALE:GREGORIAN
BEGIN:VEVENT
DTSTART:20200122T140000Z
DTEND:20200122T150000Z
X-MICROSOFT-CDO-ALLDAYEVENT:FALSE
SUMMARY:Member Orientation
DESCRIPTION:Orientation is not only for new members\, but for members who want to make the most of their membership as well. Find out about the many programs the chamber offers and how you can be involved. Light refreshments will be served. The orientation is free\, but advanced registration is required. \n\n\n\nFor questions\, email Kristy Dew.\n\n\n\nSponsored by First Horizon Bank
X-ALT-DESC;FMTTYPE=text/html:Orientation is not only for new members\, but for members who want to make the most of their membership as well. Find out about the many programs the chamber offers and how you can be involved. Light refreshments will be served. The orientation is free\, but advanced registration is required.&nbsp\;<br />\n<br />\nFor questions\, email <strong><a href="mailto:kdew@jacksontn.com?subject=Member%20Orientation"><span style="color:#799900\;">Kristy Dew</span></a></strong>.<br />\n<br />\nSponsored by First Horizon Bank
LOCATION:Jackson Chamber 197 Auditorium St. Jackson\, TN 38301
UID:e.2827.6806
SEQUENCE:3
DTSTAMP:20260421T125004Z
URL:https://member.jacksontn.com/events/details/member-orientation-6806
END:VEVENT

END:VCALENDAR
