BEGIN:VCALENDAR
VERSION:2.0
PRODID:-//ChamberMaster//Event Calendar 2.0//EN
METHOD:PUBLISH
X-PUBLISHED-TTL:P3D
REFRESH-INTERVAL:P3D
CALSCALE:GREGORIAN
BEGIN:VEVENT
DTSTART:20050502T220000Z
DTEND:20050503T010000Z
X-MICROSOFT-CDO-ALLDAYEVENT:FALSE
SUMMARY:Melanoma Monday: Skin Cancer Screening
DESCRIPTION:Free admission.
X-ALT-DESC;FMTTYPE=text/html:Free admission.
LOCATION:West Tennessee Surgery Center 678 Skyline Drive Jackson\, TN
UID:e.2827.893
SEQUENCE:3
DTSTAMP:20260421T182414Z
URL:https://member.jacksontn.com/events/details/melanoma-monday-skin-cancer-screening-05-02-2005-893
END:VEVENT

END:VCALENDAR
