BEGIN:VCALENDAR
VERSION:2.0
PRODID:-//ChamberMaster//Event Calendar 2.0//EN
METHOD:PUBLISH
X-PUBLISHED-TTL:P3D
REFRESH-INTERVAL:P3D
CALSCALE:GREGORIAN
BEGIN:VEVENT
DTSTART:20180906T220000Z
DTEND:20180907T000000Z
X-MICROSOFT-CDO-ALLDAYEVENT:FALSE
SUMMARY:Meet the 40th Class of Leadership Jackson
DESCRIPTION:Leadership Jackson Alumni\, \n\nMeet the 40th Class of\n\nLeadership Jackson Social
X-ALT-DESC;FMTTYPE=text/html:<div><span style="font-family:arial\;">Leadership Jackson Alumni\,&nbsp\;<br>\n<strong>Meet the 40th Class of<br>\nLeadership Jackson Social</strong></span></div>\n
LOCATION:Jackson Chamber 197 Auditorium Street
UID:e.2827.6705
SEQUENCE:3
DTSTAMP:20260423T101636Z
URL:https://member.jacksontn.com/events/details/meet-the-40th-class-of-leadership-jackson-6705
END:VEVENT

END:VCALENDAR
