BEGIN:VCALENDAR
VERSION:2.0
PRODID:-//ChamberMaster//Event Calendar 2.0//EN
METHOD:PUBLISH
X-PUBLISHED-TTL:P3D
REFRESH-INTERVAL:P3D
CALSCALE:GREGORIAN
BEGIN:VEVENT
DTSTART:20170525T220000Z
DTEND:20170526T000000Z
X-MICROSOFT-CDO-ALLDAYEVENT:FALSE
SUMMARY:May Business After Hours
DESCRIPTION:Win a Smoker Grill!\n\nPlus: Enjoy a sample tasting from Samuel T. Bryant Distillery and a themed photo booth.\n\n \n\n  Make contacts\n\n  Network\n\n  Enjoy hors d'oeuvres \n\n  Free to attend \n\n  No advance registration\n\n \nThis is one of the chamber's largest free events!  Sponsored by the Villages of Campbell Oaks.
X-ALT-DESC;FMTTYPE=text/html:<p style="margin: 0px\; text-align: center\; font-size: 24px\; line-height: normal\; font-family: 'ITC Avant Garde Gothic'\; color: rgb(0\, 63\, 105)\;"><span style="font-size:14px\;"><b>Win a Smoker Grill!</b></span></p>\n\n<p style="margin: 0px\; text-align: center\; font-size: 21.5px\; line-height: normal\; font-family: 'ITC Avant Garde Gothic'\; color: rgb(0\, 63\, 105)\;"><span style="font-size:14px\;"><b>Plus: Enjoy a sample tasting from Samuel T. Bryant Distillery and a themed photo booth.</b></span><br />\n&nbsp\;</p>\n\n<p style="margin: 0px\; font-size: 24px\; line-height: normal\; font-family: 'Arial Narrow'\; color: rgb(0\, 63\, 105)\;"><span style="color:#000000\;"><span style="font-size:14px\;">&bull\; Make contacts</span></span></p>\n\n<p style="margin: 0px\; font-size: 24px\; line-height: normal\; font-family: 'Arial Narrow'\; color: rgb(0\, 63\, 105)\;"><span style="color:#000000\;"><span style="font-size:14px\;">&bull\; Network</span></span></p>\n\n<p style="margin: 0px\; font-size: 24px\; line-height: normal\; font-family: 'Arial Narrow'\; color: rgb(0\, 63\, 105)\;"><span style="color:#000000\;"><span style="font-size:14px\;">&bull\; Enjoy hors d&rsquo\;oeuvres&nbsp\;</span></span></p>\n\n<p style="margin: 0px\; font-size: 24px\; line-height: normal\; font-family: 'Arial Narrow'\; color: rgb(0\, 63\, 105)\;"><span style="color:#000000\;"><span style="font-size:14px\;">&bull\; Free to attend&nbsp\;</span></span></p>\n\n<p style="margin: 0px\; font-size: 24px\; line-height: normal\; font-family: 'Arial Narrow'\; color: rgb(0\, 63\, 105)\;"><span style="font-size:14px\;"><span style="color:#000000\;">&bull\; No advance registration</span></span><br />\n&nbsp\;</p>\nThis is one of the chamber&#39\;s largest free events! &nbsp\;Sponsored by the Villages of Campbell Oaks.
LOCATION:Villages of Campbell Oaks 1000 Willow Oak Ln Jackson\, TN 38305
UID:e.2827.3385
SEQUENCE:3
DTSTAMP:20260424T055958Z
URL:https://member.jacksontn.com/events/details/may-business-after-hours-3385
END:VEVENT

END:VCALENDAR
