BEGIN:VCALENDAR
VERSION:2.0
PRODID:-//ChamberMaster//Event Calendar 2.0//EN
METHOD:PUBLISH
X-PUBLISHED-TTL:P3D
REFRESH-INTERVAL:P3D
CALSCALE:GREGORIAN
BEGIN:VEVENT
DTSTART:20050929T180000Z
DTEND:20050930T010000Z
X-MICROSOFT-CDO-ALLDAYEVENT:FALSE
SUMMARY:Marketplace Expo
DESCRIPTION:Booths are 8' x 10'. Cost per booth is $150 for chamber members and $250 for non-members.
X-ALT-DESC;FMTTYPE=text/html:Booths are 8' x 10'. Cost per booth is $150 for chamber members and $250 for non-members.
LOCATION:Jackson Fairgrounds Park South Highland Jackson\, TN
UID:e.2827.1072
SEQUENCE:3
DTSTAMP:20260421T131256Z
URL:https://member.jacksontn.com/events/details/marketplace-expo-09-29-2005-1072
END:VEVENT

END:VCALENDAR
