BEGIN:VCALENDAR
VERSION:2.0
PRODID:-//ChamberMaster//Event Calendar 2.0//EN
METHOD:PUBLISH
X-PUBLISHED-TTL:P3D
REFRESH-INTERVAL:P3D
CALSCALE:GREGORIAN
BEGIN:VEVENT
DTSTART:20190328T220000Z
DTEND:20190329T000000Z
X-MICROSOFT-CDO-ALLDAYEVENT:FALSE
SUMMARY:March Business After Hours
DESCRIPTION:This is one of the chamber's largest networking events!  Sponsored by West Tennessee HealthCare Rehabilitation Hospital Jackson.\n\n	Make contacts\n	Network\n	Enjoy hors d'oeuvres \n	Free to attend \n	No advance registration
X-ALT-DESC;FMTTYPE=text/html:<span style="font-size:14px\;">This is one of the chamber&#39\;s largest networking events! &nbsp\;Sponsored by West Tennessee HealthCare Rehabilitation Hospital Jackson.</span>\n<ul>\n	<li style="margin: 0px\; font-size: 18px\; line-height: normal\; font-family: &quot\;ITC Avant Garde Gothic&quot\;\; color: rgb(0\, 63\, 105)\;"><span style="font-size:14px\;"><span style="color: rgb(0\, 0\, 0)\;">Make contacts</span></span></li>\n	<li style="margin: 0px\; font-size: 18px\; line-height: normal\; font-family: &quot\;ITC Avant Garde Gothic&quot\;\; color: rgb(0\, 63\, 105)\;"><span style="font-size:14px\;"><span style="color: rgb(0\, 0\, 0)\;">Network</span></span></li>\n	<li style="margin: 0px\; font-size: 18px\; line-height: normal\; font-family: &quot\;ITC Avant Garde Gothic&quot\;\; color: rgb(0\, 63\, 105)\;"><span style="font-size:14px\;"><span style="color: rgb(0\, 0\, 0)\;">Enjoy hors d&#39\;oeuvres&nbsp\;</span></span></li>\n	<li style="margin: 0px\; font-size: 18px\; line-height: normal\; font-family: &quot\;ITC Avant Garde Gothic&quot\;\; color: rgb(0\, 63\, 105)\;"><span style="font-size:14px\;"><span style="color: rgb(0\, 0\, 0)\;">Free to attend&nbsp\;</span></span></li>\n	<li style="margin: 0px\; font-size: 18px\; line-height: normal\; font-family: &quot\;ITC Avant Garde Gothic&quot\;\; color: rgb(0\, 63\, 105)\;"><span style="font-size:14px\;"><span style="color: rgb(0\, 0\, 0)\;">No advance registration</span></span></li>\n</ul>\n
LOCATION:West Tennessee HealthCare Rehabilitation Hospital Jackson 616 W. Forest Ave. Jackson\, TN 38301
UID:e.2827.6733
SEQUENCE:3
DTSTAMP:20260422T161723Z
URL:https://member.jacksontn.com/events/details/march-business-after-hours-6733
END:VEVENT

END:VCALENDAR
